BEGIN:VCALENDAR
VERSION:2.0
PRODID:-//wp-events-plugin.com//7.2.3.1//EN
TZID:Europe/Paris
X-WR-TIMEZONE:Europe/Paris
BEGIN:VEVENT
UID:1-40@fwfwushu.fr
DTSTART;TZID=Europe/Paris:20231207T000000
DTEND;TZID=Europe/Paris:20231207T000000
DTSTAMP:20231207T145949Z
URL:https://www.fwfwushu.fr/evenements/partenariat-fwf-ffk-2/
SUMMARY:Partenariat FWF/FFK
DESCRIPTION:Nous avons fait un partenariat avec la Commission Wushu FFK.\nC
 ela nous permet d'unir nos forces pour un avenir plus radieux que jamais .
 ..\n\nNous avons rejoint une équipe\, une famille\, un projet .\n\nCela n
 e nous empêche pas pour autant de continuer l'aventure FWF démarrée en 
 2014.\n\nNous avons créé et affilié à la FFK pour l'occasion une assoc
 iation\, s’appelant « Formation Wushu France »\, faisant partie intég
 rante de la Fédération Wushu France\, afin d’accueillir tous les licen
 ciés ayant acceptés de rejoindre la FFK par notre biais.\n\nPour ceux qu
 i acceptent cette formule de partenariat et rejoindre notre association Fo
 rmation Wushu France adhérente de la FFK\, cela leur permettra de profite
 r de tous les services de la FFK à savoir compétitions (une par mois)\, 
 Duans officiels\, diplômes officiels\, Arbitrage\, Stages ect...\n\nPour 
 celles et ceux qui ne souhaitent pas bénéficier de ces avantages liés 
 à ce partenariat pas de soucis\, rien ne change. Nous organiserons toujou
 rs nos événements propres (Stages\, Formations\, Open\, Passages de Duan
 s FWF).\n\nWushument votre\,\nHervé BAUDOUX\nPrésident FWF\n\n 
CATEGORIES:News
END:VEVENT
BEGIN:VTIMEZONE
TZID:Europe/Paris
X-LIC-LOCATION:Europe/Paris
BEGIN:STANDARD
DTSTART:20231029T020000
TZOFFSETFROM:+0200
TZOFFSETTO:+0100
TZNAME:CET
END:STANDARD
END:VTIMEZONE
END:VCALENDAR